BEGIN:VCALENDAR
VERSION:2.0
PRODID:-//OpenSearch - ECPv6.15.20//NONSGML v1.0//EN
CALSCALE:GREGORIAN
METHOD:PUBLISH
X-WR-CALNAME:OpenSearch
X-ORIGINAL-URL:https://opensearch.org
X-WR-CALDESC:Events for OpenSearch
REFRESH-INTERVAL;VALUE=DURATION:PT1H
X-Robots-Tag:noindex
X-PUBLISHED-TTL:PT1H
BEGIN:VTIMEZONE
TZID:UTC
BEGIN:STANDARD
TZOFFSETFROM:+0000
TZOFFSETTO:+0000
TZNAME:UTC
DTSTART:20210101T000000
END:STANDARD
END:VTIMEZONE
BEGIN:VEVENT
DTSTART;TZID=UTC:20220606T090000
DTEND;TZID=UTC:20220606T100000
DTSTAMP:20260422T093758
CREATED:20250108T075218Z
LAST-MODIFIED:20250108T075218Z
UID:10000245-1654506000-1654509600@opensearch.org
SUMMARY:OpenSearch Community Meeting - 2022-06-06
DESCRIPTION:Join us for our online community meeting. \nMeeting topics and passcode are listed in the collaborative agenda on HackMD. \nFeel free to comment on the agenda before the meeting if you want to add an item or have a question. During the meeting the agenda will be unlocked for collaborative editing / note taking. After the meeting the agenda will be set to read-only mode. \nJoin on Meetup
URL:https://opensearch.org/event/2022-0606/
CATEGORIES:Community
ATTACH;FMTTYPE=image/png:https://opensearch.org/wp-content/uploads/2025/01/OpenSearch-Feature-Image.png
END:VEVENT
BEGIN:VEVENT
DTSTART;TZID=UTC:20220613T090000
DTEND;TZID=UTC:20220613T100000
DTSTAMP:20260422T093758
CREATED:20250108T075109Z
LAST-MODIFIED:20250108T075124Z
UID:10000244-1655110800-1655114400@opensearch.org
SUMMARY:OpenSearch Community Meeting - 2022-06-13
DESCRIPTION:Join us for Q&A at an open office community meeting. \nMeeting topics and passcode are listed in the collaborative agenda on HackMD. \nFeel free to comment on the agenda before the meeting if you want to add an item or have a question. During the meeting the agenda will be unlocked for collaborative editing / note taking. After the meeting the agenda will be set to read-only mode. \nJoin on Meetup
URL:https://opensearch.org/event/2022-0613/
CATEGORIES:Community
ATTACH;FMTTYPE=image/png:https://opensearch.org/wp-content/uploads/2025/01/OpenSearch-Feature-Image.png
END:VEVENT
BEGIN:VEVENT
DTSTART;TZID=UTC:20220622T150000
DTEND;TZID=UTC:20220622T160000
DTSTAMP:20260422T093758
CREATED:20250108T075010Z
LAST-MODIFIED:20250108T075027Z
UID:10000243-1655910000-1655913600@opensearch.org
SUMMARY:OpenSearch Community Meeting - 2022-06-22
DESCRIPTION:Join us for our online community meeting. \nPlease note – we’ve updated the date from 6/21 to the new date of 6/22 due to unforeseen circumstances. Thank you for your understanding. \nMeeting topics and passcode are listed in the collaborative agenda on HackMD. \nFeel free to comment on the agenda before the meeting if you want to add an item or have a question. During the meeting the agenda will be unlocked for collaborative editing / note taking. After the meeting the agenda will be set to read-only mode. \nJoin on Meetup
URL:https://opensearch.org/event/2022-0621/
CATEGORIES:Community
ATTACH;FMTTYPE=image/png:https://opensearch.org/wp-content/uploads/2025/01/OpenSearch-Feature-Image.png
END:VEVENT
BEGIN:VEVENT
DTSTART;TZID=UTC:20220628T150000
DTEND;TZID=UTC:20220628T160000
DTSTAMP:20260422T093758
CREATED:20250108T074911Z
LAST-MODIFIED:20250108T074929Z
UID:10000242-1656428400-1656432000@opensearch.org
SUMMARY:OpenSearch Community Meeting - 2022-06-28
DESCRIPTION:Join us for Q&A at an open office community meeting. \nMeeting topics and passcode are listed in the collaborative agenda on HackMD. \nFeel free to comment on the agenda before the meeting if you want to add an item or have a question. During the meeting the agenda will be unlocked for collaborative editing / note taking. After the meeting the agenda will be set to read-only mode. \nJoin on Meetup
URL:https://opensearch.org/event/2022-0628/
CATEGORIES:Community
ATTACH;FMTTYPE=image/png:https://opensearch.org/wp-content/uploads/2025/01/OpenSearch-Feature-Image.png
END:VEVENT
END:VCALENDAR