BEGIN:VCALENDAR
VERSION:2.0
PRODID:-//OpenSearch - ECPv6.15.20//NONSGML v1.0//EN
CALSCALE:GREGORIAN
METHOD:PUBLISH
X-WR-CALNAME:OpenSearch
X-ORIGINAL-URL:https://opensearch.org
X-WR-CALDESC:Events for OpenSearch
REFRESH-INTERVAL;VALUE=DURATION:PT1H
X-Robots-Tag:noindex
X-PUBLISHED-TTL:PT1H
BEGIN:VTIMEZONE
TZID:UTC
BEGIN:STANDARD
TZOFFSETFROM:+0000
TZOFFSETTO:+0000
TZNAME:UTC
DTSTART:20220101T000000
END:STANDARD
END:VTIMEZONE
BEGIN:VEVENT
DTSTART;TZID=UTC:20230314T080000
DTEND;TZID=UTC:20230314T090000
DTSTAMP:20260421T185045
CREATED:20250107T195834Z
LAST-MODIFIED:20250107T195834Z
UID:10000199-1678780800-1678784400@opensearch.org
SUMMARY:OpenSearch Community Meeting - 2023-03-14
DESCRIPTION:Join us for our online community meeting. \nMeeting topics and passcode are listed in the collaborative agenda on the forum. \nFeel free to comment on the agenda before the meeting if you want to add an item or have a question. Would you like to present? Reach out on the forumn thread – we welcome community presentations. \nAfter the meeting\, we will post the chat log and any meeting notes. We welcome you to keep the conversation going on the forum. \nBy joining the OpenSearch Community Meeting\, you grant OpenSearch\, and our affiliates the right to record\, film\, photograph\, and capture your voice and image during the OpenSearch Community Meeting (the “Recordings”). You grant to us an irrevocable\, nonexclusive\, perpetual\, worldwide\, royalty-free right and license to use\, reproduce\, modify\, distribute\, and translate\, for any purpose\, all or any part of the Recordings and Your Materials. For example\, we may distribute Recordings or snippets of Recordings via our social media outlets. \nJoin on Meetup
URL:https://opensearch.org/event/2023-0314/
CATEGORIES:Community
ATTACH;FMTTYPE=image/png:https://opensearch.org/wp-content/uploads/2025/01/OpenSearch-Feature-Image.png
END:VEVENT
BEGIN:VEVENT
DTSTART;TZID=UTC:20230323T160000
DTEND;TZID=UTC:20230323T170000
DTSTAMP:20260421T185045
CREATED:20250107T195611Z
LAST-MODIFIED:20250107T195611Z
UID:10000197-1679587200-1679590800@opensearch.org
SUMMARY:Fluent Community Meeting
DESCRIPTION:The Fluent Community meeting is an online meetup centered around the Fluentd and Fluent Bit open source projects that are part of the Cloud Native Computing Foundation (CNCF). We also sometimes branch off into discussions of observability in general. \nUsers who are interested in discussing the projects\, communicating with maintainers\, or who are eager to learn about the technologies should join. New users are welcomed. \nOur agenda for the meeting is an open document. \nJoin on Meetup
URL:https://opensearch.org/event/2023-0323-fluent-community/
CATEGORIES:Community
ATTACH;FMTTYPE=image/png:https://opensearch.org/wp-content/uploads/2025/01/OpenSearch-Feature-Image.png
END:VEVENT
BEGIN:VEVENT
DTSTART;TZID=UTC:20230328T150000
DTEND;TZID=UTC:20230328T160000
DTSTAMP:20260421T185045
CREATED:20250107T195415Z
LAST-MODIFIED:20250107T195425Z
UID:10000195-1680015600-1680019200@opensearch.org
SUMMARY:OpenSearch Community Meeting - 2023-03-28
DESCRIPTION:Join us for our online community meeting. \nMeeting topics and passcode are listed in the collaborative agenda on the forum. \nFeel free to comment on the agenda before the meeting if you want to add an item or have a question. Would you like to present? Reach out on the forumn thread – we welcome community presentations. \nAfter the meeting\, we will post the chat log and any meeting notes. We welcome you to keep the conversation going on the forum. \nBy joining the OpenSearch Community Meeting\, you grant OpenSearch\, and our affiliates the right to record\, film\, photograph\, and capture your voice and image during the OpenSearch Community Meeting (the “Recordings”). You grant to us an irrevocable\, nonexclusive\, perpetual\, worldwide\, royalty-free right and license to use\, reproduce\, modify\, distribute\, and translate\, for any purpose\, all or any part of the Recordings and Your Materials. For example\, we may distribute Recordings or snippets of Recordings via our social media outlets. \nJoin on Meetup
URL:https://opensearch.org/event/2023-0328/
CATEGORIES:Community
ATTACH;FMTTYPE=image/png:https://opensearch.org/wp-content/uploads/2025/01/OpenSearch-Feature-Image.png
END:VEVENT
END:VCALENDAR