BEGIN:VCALENDAR
VERSION:2.0
PRODID:-//OpenSearch - ECPv6.15.20//NONSGML v1.0//EN
CALSCALE:GREGORIAN
METHOD:PUBLISH
X-WR-CALNAME:OpenSearch
X-ORIGINAL-URL:https://opensearch.org
X-WR-CALDESC:Events for OpenSearch
REFRESH-INTERVAL;VALUE=DURATION:PT1H
X-Robots-Tag:noindex
X-PUBLISHED-TTL:PT1H
BEGIN:VTIMEZONE
TZID:UTC
BEGIN:STANDARD
TZOFFSETFROM:+0000
TZOFFSETTO:+0000
TZNAME:UTC
DTSTART:20220101T000000
END:STANDARD
END:VTIMEZONE
BEGIN:VEVENT
DTSTART;TZID=UTC:20230424T090000
DTEND;TZID=UTC:20230424T100000
DTSTAMP:20260421T171045
CREATED:20250107T193444Z
LAST-MODIFIED:20250107T193444Z
UID:10000187-1682326800-1682330400@opensearch.org
SUMMARY:Haystack US 2023 - The Search Relevance Conference
DESCRIPTION:Haystack is the conference for improving search relevance. If you’re like us\, you work to understand the shiny new tools or dense academic papers out there that promise the moon. Then you puzzle how to apply those insights to your search problem\, in your search stack. But the path isn’t always easy\, and the promised gains don’t always materialize. \nHaystack is the conference for organizations where search\, matching\, and relevance really matters to the bottom line. For search managers\, developers\, relevance engineers & data scientists finding ways to innovate\, see past the silver bullets\, and share what actually has worked well for their unique problems. Please come share and learn! \nFeaturing talks from AWS OpenSearch\, Getty Images\, Elsevier Health\, Delivery Hero\, Pinecone\, Weaviate & a raft of other search experts! \nFind out more and register
URL:https://opensearch.org/event/2023-0424-haystack-us-2023/
CATEGORIES:Community
ATTACH;FMTTYPE=image/png:https://opensearch.org/wp-content/uploads/2025/01/OpenSearch-Feature-Image.png
END:VEVENT
BEGIN:VEVENT
DTSTART;TZID=UTC:20230425T150000
DTEND;TZID=UTC:20230425T160000
DTSTAMP:20260421T171045
CREATED:20250107T193301Z
LAST-MODIFIED:20250107T193301Z
UID:10000185-1682434800-1682438400@opensearch.org
SUMMARY:OpenSearch Community Meeting - 2023-04-25
DESCRIPTION:Join us for our online community meeting. \nMeeting topics and passcode are listed in the collaborative agenda on the forum. \nFeel free to comment on the agenda before the meeting if you want to add an item or have a question. Would you like to present? Reach out on the forumn thread – we welcome community presentations. \nAfter the meeting\, we will post the chat log and any meeting notes. We welcome you to keep the conversation going on the forum. \nBy joining the OpenSearch Community Meeting\, you grant OpenSearch\, and our affiliates the right to record\, film\, photograph\, and capture your voice and image during the OpenSearch Community Meeting (the “Recordings”). You grant to us an irrevocable\, nonexclusive\, perpetual\, worldwide\, royalty-free right and license to use\, reproduce\, modify\, distribute\, and translate\, for any purpose\, all or any part of the Recordings and Your Materials. For example\, we may distribute Recordings or snippets of Recordings via our social media outlets. \nJoin on Meetup
URL:https://opensearch.org/event/2023-0425/
CATEGORIES:Community
ATTACH;FMTTYPE=image/png:https://opensearch.org/wp-content/uploads/2025/01/OpenSearch-Feature-Image.png
END:VEVENT
END:VCALENDAR