BEGIN:VCALENDAR
VERSION:2.0
PRODID:-//OpenSearch - ECPv6.15.20//NONSGML v1.0//EN
CALSCALE:GREGORIAN
METHOD:PUBLISH
X-ORIGINAL-URL:https://opensearch.org
X-WR-CALDESC:Events for OpenSearch
REFRESH-INTERVAL;VALUE=DURATION:PT1H
X-Robots-Tag:noindex
X-PUBLISHED-TTL:PT1H
BEGIN:VTIMEZONE
TZID:UTC
BEGIN:STANDARD
TZOFFSETFROM:+0000
TZOFFSETTO:+0000
TZNAME:UTC
DTSTART:20220101T000000
END:STANDARD
END:VTIMEZONE
BEGIN:VEVENT
DTSTART;TZID=UTC:20230711T080000
DTEND;TZID=UTC:20230711T090000
DTSTAMP:20260421T123916
CREATED:20250107T185713Z
LAST-MODIFIED:20250107T185731Z
UID:10000156-1689062400-1689066000@opensearch.org
SUMMARY:OpenSearch Community Meeting - 2023-07-11
DESCRIPTION:Join us for our online community meeting. \nMeeting topics and passcode are listed in the collaborative agenda on the forum. \nFeel free to comment on the agenda before the meeting if you want to add an item or have a question. Would you like to present? Reach out on the forumn thread – we welcome community presentations. \nAfter the meeting\, we will post the chat log and any meeting notes. We welcome you to keep the conversation going on the forum. \nBy joining the OpenSearch Community Meeting\, you grant OpenSearch\, and our affiliates the right to record\, film\, photograph\, and capture your voice and image during the OpenSearch Community Meeting (the “Recordings”). You grant to us an irrevocable\, nonexclusive\, perpetual\, worldwide\, royalty-free right and license to use\, reproduce\, modify\, distribute\, and translate\, for any purpose\, all or any part of the Recordings and Your Materials. For example\, we may distribute Recordings or snippets of Recordings via our social media outlets. \nJoin on Meetup
URL:https://opensearch.org/event/2023-0711/
CATEGORIES:Community
ATTACH;FMTTYPE=image/png:https://opensearch.org/wp-content/uploads/2025/01/OpenSearch-Feature-Image.png
END:VEVENT
BEGIN:VEVENT
DTSTART;TZID=UTC:20230725T100000
DTEND;TZID=UTC:20230725T110000
DTSTAMP:20260421T123916
CREATED:20250107T184202Z
LAST-MODIFIED:20250107T184220Z
UID:10000150-1690279200-1690282800@opensearch.org
SUMMARY:Efficient Vector Search with OpenSearch - Webinar with BigData Boutique and MyPart
DESCRIPTION:Join MyPart’s CEO and Chief Architect Matan Kollnescher\, and Itamar Syn-Hershko\, CTO and Founder of BigData Boutique\, to learn how MyPart revolutionized song search by using Vector Embedding and OpenSearch. \nIn this session\, we’ll discuss MyPart’s unique use-case and multi-dimensional approach that slices up sounds\, lyrics and musical compositions into vectors that make sense to a computer. With that information stored in a Vector Database\, MyPart can run intelligent\, low-latency queries on huge music catalogs\, without compromising accuracy or functionality. \nWe will then dive into the intricacies of Vector Search with OpenSearch\, learning ML techniques that apply to a wide range of projects. As we get more technical\, we’ll discuss how OpenSearch makes searching through vector data easy and efficient. \n\n\n\nJoin us on this webinar
URL:https://opensearch.org/event/2023-0725-efficient-vector-search-opensearch/
CATEGORIES:Community
ATTACH;FMTTYPE=image/png:https://opensearch.org/wp-content/uploads/2025/01/OpenSearch-Feature-Image.png
END:VEVENT
BEGIN:VEVENT
DTSTART;TZID=UTC:20230725T150000
DTEND;TZID=UTC:20230725T160000
DTSTAMP:20260421T123916
CREATED:20250107T184020Z
LAST-MODIFIED:20250107T184020Z
UID:10000149-1690297200-1690300800@opensearch.org
SUMMARY:OpenSearch Community Meeting - 2023-07-25
DESCRIPTION:Join us for our online community meeting. \nMeeting topics and passcode are listed in the collaborative agenda on the forum. \nFeel free to comment on the agenda before the meeting if you want to add an item or have a question. Would you like to present? Reach out on the forumn thread – we welcome community presentations. \nAfter the meeting\, we will post the chat log and any meeting notes. We welcome you to keep the conversation going on the forum. \nBy joining the OpenSearch Community Meeting\, you grant OpenSearch\, and our affiliates the right to record\, film\, photograph\, and capture your voice and image during the OpenSearch Community Meeting (the “Recordings”). You grant to us an irrevocable\, nonexclusive\, perpetual\, worldwide\, royalty-free right and license to use\, reproduce\, modify\, distribute\, and translate\, for any purpose\, all or any part of the Recordings and Your Materials. For example\, we may distribute Recordings or snippets of Recordings via our social media outlets. \nJoin on Meetup
URL:https://opensearch.org/event/2023-0725/
CATEGORIES:Community
ATTACH;FMTTYPE=image/png:https://opensearch.org/wp-content/uploads/2025/01/OpenSearch-Feature-Image.png
END:VEVENT
END:VCALENDAR