BEGIN:VCALENDAR
VERSION:2.0
PRODID:-//OpenSearch - ECPv6.15.20//NONSGML v1.0//EN
CALSCALE:GREGORIAN
METHOD:PUBLISH
X-WR-CALNAME:OpenSearch
X-ORIGINAL-URL:https://opensearch.org
X-WR-CALDESC:Events for OpenSearch
REFRESH-INTERVAL;VALUE=DURATION:PT1H
X-Robots-Tag:noindex
X-PUBLISHED-TTL:PT1H
BEGIN:VTIMEZONE
TZID:UTC
BEGIN:STANDARD
TZOFFSETFROM:+0000
TZOFFSETTO:+0000
TZNAME:UTC
DTSTART:20220101T000000
END:STANDARD
END:VTIMEZONE
BEGIN:VEVENT
DTSTART;TZID=UTC:20231003T080000
DTEND;TZID=UTC:20231003T090000
DTSTAMP:20260421T063530
CREATED:20250105T171907Z
LAST-MODIFIED:20250105T171907Z
UID:10000115-1696320000-1696323600@opensearch.org
SUMMARY:OpenSearch Community Meeting - 2023-10-03
DESCRIPTION:Join us for our online community meeting. \nMeeting topics and passcode are listed in the collaborative agenda on the forum. \nFeel free to comment on the agenda before the meeting if you want to add an item or have a question. Would you like to present? Reach out on the forumn thread – we welcome community presentations. \nAfter the meeting\, we will post the chat log and any meeting notes. We welcome you to keep the conversation going on the forum. \nBy joining the OpenSearch Community Meeting\, you grant OpenSearch\, and our affiliates the right to record\, film\, photograph\, and capture your voice and image during the OpenSearch Community Meeting (the “Recordings”). You grant to us an irrevocable\, nonexclusive\, perpetual\, worldwide\, royalty-free right and license to use\, reproduce\, modify\, distribute\, and translate\, for any purpose\, all or any part of the Recordings and Your Materials. For example\, we may distribute Recordings or snippets of Recordings via our social media outlets. \nJoin on Meetup
URL:https://opensearch.org/event/2023-1003-community-meeting/
CATEGORIES:Community
ATTACH;FMTTYPE=image/png:https://opensearch.org/wp-content/uploads/2025/01/OpenSearch-Feature-Image.png
END:VEVENT
BEGIN:VEVENT
DTSTART;TZID=UTC:20231017T150000
DTEND;TZID=UTC:20231017T160000
DTSTAMP:20260421T063530
CREATED:20250105T171552Z
LAST-MODIFIED:20250105T171552Z
UID:10000111-1697554800-1697558400@opensearch.org
SUMMARY:OpenSearch Community Meeting - 2023-10-17
DESCRIPTION:Join us for our online community meeting. \nMeeting topics and passcode are listed in the collaborative agenda on the forum. \nFeel free to comment on the agenda before the meeting if you want to add an item or have a question. Would you like to present? Reach out on the forumn thread – we welcome community presentations. \nAfter the meeting\, we will post the chat log and any meeting notes. We welcome you to keep the conversation going on the forum. \nBy joining the OpenSearch Community Meeting\, you grant OpenSearch\, and our affiliates the right to record\, film\, photograph\, and capture your voice and image during the OpenSearch Community Meeting (the “Recordings”). You grant to us an irrevocable\, nonexclusive\, perpetual\, worldwide\, royalty-free right and license to use\, reproduce\, modify\, distribute\, and translate\, for any purpose\, all or any part of the Recordings and Your Materials. For example\, we may distribute Recordings or snippets of Recordings via our social media outlets. \nJoin on Meetup
URL:https://opensearch.org/event/2023-1017-community-meeting/
CATEGORIES:Community
ATTACH;FMTTYPE=image/png:https://opensearch.org/wp-content/uploads/2025/01/OpenSearch-Feature-Image.png
END:VEVENT
BEGIN:VEVENT
DTSTART;TZID=UTC:20231019T120000
DTEND;TZID=UTC:20231019T130000
DTSTAMP:20260421T063530
CREATED:20250105T171407Z
LAST-MODIFIED:20250105T171407Z
UID:10000109-1697716800-1697720400@opensearch.org
SUMMARY:Fluent Community Meeting
DESCRIPTION:The Fluent Community meeting is an online meetup centered around the Fluentd and Fluent Bit open source projects that are part of the Cloud Native Computing Foundation (CNCF). \nUsers who are interested in discussing the projects\, communicating with maintainers\, or are eager to learn about the technologies should join. We also discuss general observability topics for those who are looking to learn more about the subject. \nOur agenda for the meeting is an open document. If you want to add topics to the agenda please request edit permissions. \nJoin the meetup
URL:https://opensearch.org/event/2023-1019-fluent-community-meetup/
CATEGORIES:Community
ATTACH;FMTTYPE=image/png:https://opensearch.org/wp-content/uploads/2025/01/OpenSearch-Feature-Image.png
END:VEVENT
BEGIN:VEVENT
DTSTART;TZID=UTC:20231031T080000
DTEND;TZID=UTC:20231031T090000
DTSTAMP:20260421T063530
CREATED:20250105T170726Z
LAST-MODIFIED:20250105T170726Z
UID:10000102-1698739200-1698742800@opensearch.org
SUMMARY:OpenSearch Community Meeting - 2023-10-31
DESCRIPTION:Join us for our online community meeting. \nMeeting topics and passcode are listed in the collaborative agenda on the forum. \nFeel free to comment on the agenda before the meeting if you want to add an item or have a question. Would you like to present? Reach out on the forumn thread – we welcome community presentations. \nAfter the meeting\, we will post the chat log and any meeting notes. We welcome you to keep the conversation going on the forum. \nBy joining the OpenSearch Community Meeting\, you grant OpenSearch\, and our affiliates the right to record\, film\, photograph\, and capture your voice and image during the OpenSearch Community Meeting (the “Recordings”). You grant to us an irrevocable\, nonexclusive\, perpetual\, worldwide\, royalty-free right and license to use\, reproduce\, modify\, distribute\, and translate\, for any purpose\, all or any part of the Recordings and Your Materials. For example\, we may distribute Recordings or snippets of Recordings via our social media outlets. \nJoin on Meetup
URL:https://opensearch.org/event/2023-1031-community-meeting/
CATEGORIES:Community
ATTACH;FMTTYPE=image/png:https://opensearch.org/wp-content/uploads/2025/01/OpenSearch-Feature-Image.png
END:VEVENT
END:VCALENDAR