BEGIN:VCALENDAR
VERSION:2.0
PRODID:-//OpenSearch - ECPv6.15.20//NONSGML v1.0//EN
CALSCALE:GREGORIAN
METHOD:PUBLISH
X-WR-CALNAME:OpenSearch
X-ORIGINAL-URL:https://opensearch.org
X-WR-CALDESC:Events for OpenSearch
REFRESH-INTERVAL;VALUE=DURATION:PT1H
X-Robots-Tag:noindex
X-PUBLISHED-TTL:PT1H
BEGIN:VTIMEZONE
TZID:UTC
BEGIN:STANDARD
TZOFFSETFROM:+0000
TZOFFSETTO:+0000
TZNAME:UTC
DTSTART:20220101T000000
END:STANDARD
END:VTIMEZONE
BEGIN:VEVENT
DTSTART;TZID=UTC:20231110T180000
DTEND;TZID=UTC:20231110T190000
DTSTAMP:20260421T065819
CREATED:20250105T165523Z
LAST-MODIFIED:20250722T210255Z
UID:10000096-1699639200-1699642800@opensearch.org
SUMMARY:Amsterdam OpenSearch Launch Event with Zeta Alpha
DESCRIPTION:Zeta Alpha is inviting the OpenSearch community in Amsterdam to join the launch event of the Amsterdam User Group. We start at 18:00\, we’ll have Pizza\, Refreshments\, Talks\, and Networking (this is an in-person only event). \nWhat our group is about: \nWe are a group of people in the Amsterdam area with keen interest in search engineering\, open-source search technology\, and search relevancy. If you’ve utilized or are simply curious about core search technologies like OpenSearch\, Lucene\, or Solr\, and their application in fields such as enterprise search\, vector search\, and generative AI\, this is the space for you! \nWe embrace all skill levels. Even if search is just a small part of your day-to-day duties\, come learn and connect with other smart engineers. We cover and welcome talks on topics including: search\, retrieval-augmented generation (RAG) for Large Language Models (LLM)\, data connectors and data visualization. \nTime and location: \nNovember 10th\, 2023 from 18:00 to 19:30. Room L3.36 at Lab 42\, Science Park 900\, Amsterdam. \nSchedule: \n\n18:00 – Arrival with food\, drinks.\n18:30 – OpenSearch and Generative AI – Nate Boot.\n18:50 – OpenSearch vector capabilities – Jettro Coenradie.\n19:10 – Retrieval Augmented Generation: Lucene based vs Vector databases – Fernando Rejon Barrera.\n19:30 – Networking with drinks.\n20:00 – Closing.\n\nTalks: \nOpenSearch and Generative AI \nExperiences with OpenSearch and generative AI as a developer advocate for the OpenSearch Project. \nSpeaker: Nate Boot\, Developer Advocate – OpenSearch Project. \nOpenSearch vector capabilities \nLexical search is powering the majority of search engines today. It works for eCommerce\, the legal domain\, the medical domain\, etc. However\, you must know what you are looking for to find something. Without the right terms\, you must be lucky if someone added a synonym for your term. What if you can search for concepts rather than terms? \nDuring this presentation\, you step into the semantic or vector search world. You get introduced to the vector search capabilities of OpenSearch. Together\, we explore the different options OpenSearch has for Vector Search. Through a demo\, you see the difference between lexical and vector search. \n\n\n\n*Speaker: Jettro Coenradie\, Information Retrieval Specialist\nCoach\nArchitect at Luminis.*\n\n\n\nRetrieval Augmented Generation: Lucene based vs Vector databases \nSelecting the right retrieval backend for Retrieval Augmented Generation (RAG) systems can be the decisive factor between success and failure. In this talk\, I’ll share insights gained from building RAG systems for enterprise applications\, highlighting the critical factors for ensuring quality\, performance\, and security. Join me for practical advice on moving your RAG system beyond the POC phase. \nSpeaker: Fernando Rejon Barrera\, CTO at Zeta Alpha. \nJoin on Meetup
URL:https://opensearch.org/event/2023-1110-amsterdam-user-group/
CATEGORIES:Community
ATTACH;FMTTYPE=image/png:https://opensearch.org/wp-content/uploads/2025/01/OpenSearch-Feature-Image.png
END:VEVENT
END:VCALENDAR