BEGIN:VCALENDAR
VERSION:2.0
PRODID:-//OpenSearch - ECPv6.15.20//NONSGML v1.0//EN
CALSCALE:GREGORIAN
METHOD:PUBLISH
X-ORIGINAL-URL:https://opensearch.org
X-WR-CALDESC:Events for OpenSearch
REFRESH-INTERVAL;VALUE=DURATION:PT1H
X-Robots-Tag:noindex
X-PUBLISHED-TTL:PT1H
BEGIN:VTIMEZONE
TZID:UTC
BEGIN:STANDARD
TZOFFSETFROM:+0000
TZOFFSETTO:+0000
TZNAME:UTC
DTSTART:20220101T000000
END:STANDARD
END:VTIMEZONE
BEGIN:VEVENT
DTSTART;TZID=UTC:20231130T120000
DTEND;TZID=UTC:20231130T130000
DTSTAMP:20260421T050846
CREATED:20250105T163156Z
LAST-MODIFIED:20250105T163758Z
UID:10000089-1701345600-1701349200@opensearch.org
SUMMARY:Fluent Community Meeting
DESCRIPTION:The Fluent Community meeting is an online meetup centered around the Fluentd and Fluent Bit open source projects that are part of the Cloud Native Computing Foundation (CNCF). \nUsers who are interested in discussing the projects\, communicating with maintainers\, or are eager to learn about the technologies should join. We also discuss general observability topics for those who are looking to learn more about the subject. \nOur agenda for the meeting is an open document. If you want to add topics to the agenda please request edit permissions. \n 
URL:https://opensearch.org/event/2023-1130-fluent-community-meetup/
CATEGORIES:Community
ATTACH;FMTTYPE=image/png:https://opensearch.org/wp-content/uploads/2025/01/OpenSearch-Feature-Image.png
END:VEVENT
END:VCALENDAR