BEGIN:VCALENDAR
VERSION:2.0
PRODID:-//OpenSearch - ECPv6.15.20//NONSGML v1.0//EN
CALSCALE:GREGORIAN
METHOD:PUBLISH
X-ORIGINAL-URL:https://opensearch.org
X-WR-CALDESC:Events for OpenSearch
REFRESH-INTERVAL;VALUE=DURATION:PT1H
X-Robots-Tag:noindex
X-PUBLISHED-TTL:PT1H
BEGIN:VTIMEZONE
TZID:UTC
BEGIN:STANDARD
TZOFFSETFROM:+0000
TZOFFSETTO:+0000
TZNAME:UTC
DTSTART:20230101T000000
END:STANDARD
END:VTIMEZONE
BEGIN:VEVENT
DTSTART;TZID=UTC:20240903T080000
DTEND;TZID=UTC:20240903T090000
DTSTAMP:20260419T095802
CREATED:20250104T202120Z
LAST-MODIFIED:20250104T202120Z
UID:10000014-1725350400-1725354000@opensearch.org
SUMMARY:OpenSearch Community Meeting - 2024-09-03
DESCRIPTION:Join us for our online community meeting. \nMeeting topics and passcode are listed in the collaborative agenda on the forum. \nFeel free to comment on the agenda before the meeting if you want to add an item or have a question. Would you like to present? Reach out on the forum thread – we welcome community presentations. \nAfter the meeting\, we will post the chat log and any meeting notes. We welcome you to keep the conversation going on the forum. \nBy joining the OpenSearch Community Meeting\, you grant OpenSearch\, and our affiliates the right to record\, film\, photograph\, and capture your voice and image during the OpenSearch Community Meeting (the “Recordings”). You grant to us an irrevocable\, nonexclusive\, perpetual\, worldwide\, royalty-free right and license to use\, reproduce\, modify\, distribute\, and translate\, for any purpose\, all or any part of the Recordings and Your Materials. For example\, we may distribute Recordings or snippets of Recordings via our social media outlets. \nJoin on Meetup
URL:https://opensearch.org/event/2024-0903-community-meeting/
CATEGORIES:Community
ATTACH;FMTTYPE=image/png:https://opensearch.org/wp-content/uploads/2025/01/OpenSearch-Feature-Image.png
END:VEVENT
END:VCALENDAR