BEGIN:VCALENDAR
VERSION:2.0
PRODID:-//OpenSearch - ECPv6.15.20//NONSGML v1.0//EN
CALSCALE:GREGORIAN
METHOD:PUBLISH
X-WR-CALNAME:OpenSearch
X-ORIGINAL-URL:https://opensearch.org
X-WR-CALDESC:Events for OpenSearch
REFRESH-INTERVAL;VALUE=DURATION:PT1H
X-Robots-Tag:noindex
X-PUBLISHED-TTL:PT1H
BEGIN:VTIMEZONE
TZID:Europe/Rome
BEGIN:DAYLIGHT
TZOFFSETFROM:+0100
TZOFFSETTO:+0200
TZNAME:CEST
DTSTART:20250330T010000
END:DAYLIGHT
BEGIN:STANDARD
TZOFFSETFROM:+0200
TZOFFSETTO:+0100
TZNAME:CET
DTSTART:20251026T010000
END:STANDARD
BEGIN:DAYLIGHT
TZOFFSETFROM:+0100
TZOFFSETTO:+0200
TZNAME:CEST
DTSTART:20260329T010000
END:DAYLIGHT
BEGIN:STANDARD
TZOFFSETFROM:+0200
TZOFFSETTO:+0100
TZNAME:CET
DTSTART:20261025T010000
END:STANDARD
BEGIN:DAYLIGHT
TZOFFSETFROM:+0100
TZOFFSETTO:+0200
TZNAME:CEST
DTSTART:20270328T010000
END:DAYLIGHT
BEGIN:STANDARD
TZOFFSETFROM:+0200
TZOFFSETTO:+0100
TZNAME:CET
DTSTART:20271031T010000
END:STANDARD
END:VTIMEZONE
BEGIN:VTIMEZONE
TZID:Asia/Kolkata
BEGIN:STANDARD
TZOFFSETFROM:+0530
TZOFFSETTO:+0530
TZNAME:IST
DTSTART:20250101T000000
END:STANDARD
END:VTIMEZONE
BEGIN:VTIMEZONE
TZID:America/Los_Angeles
BEGIN:DAYLIGHT
TZOFFSETFROM:-0800
TZOFFSETTO:-0700
TZNAME:PDT
DTSTART:20250309T100000
END:DAYLIGHT
BEGIN:STANDARD
TZOFFSETFROM:-0700
TZOFFSETTO:-0800
TZNAME:PST
DTSTART:20251102T090000
END:STANDARD
BEGIN:DAYLIGHT
TZOFFSETFROM:-0800
TZOFFSETTO:-0700
TZNAME:PDT
DTSTART:20260308T100000
END:DAYLIGHT
BEGIN:STANDARD
TZOFFSETFROM:-0700
TZOFFSETTO:-0800
TZNAME:PST
DTSTART:20261101T090000
END:STANDARD
BEGIN:DAYLIGHT
TZOFFSETFROM:-0800
TZOFFSETTO:-0700
TZNAME:PDT
DTSTART:20270314T100000
END:DAYLIGHT
BEGIN:STANDARD
TZOFFSETFROM:-0700
TZOFFSETTO:-0800
TZNAME:PST
DTSTART:20271107T090000
END:STANDARD
END:VTIMEZONE
BEGIN:VEVENT
DTSTART;TZID=Europe/Rome:20260330T183000
DTEND;TZID=Europe/Rome:20260330T203000
DTSTAMP:20260419T183813
CREATED:20260311T163048Z
LAST-MODIFIED:20260311T163048Z
UID:10000754-1774895400-1774902600@opensearch.org
SUMMARY:Rome User Group - March 30 2026
DESCRIPTION:Questo evento segna la nascita della community OpenSearch di Roma\, uno spazio dedicato a developer\, data engineer\, platform engineer e a chiunque lavori o sia interessato/a a tecnologie di search\, analytics e osservabilità.\nL’obiettivo è creare un punto di incontro per chi utilizza OpenSearch o vuole esplorarne le potenzialità in contesti reali: dalle piattaforme dati alle infrastrutture distribuite e ai sistemi di osservabilità su larga scala. \nDurante la serata parleremo dell’evoluzione di OpenSearch e di come viene utilizzato per costruire sistemi di ricerca\, analytics e osservabilità su larga scala. I talk offriranno uno sguardo tecnico su architetture\, esperienze sul campo e scenari applicativi concreti. \nAgenda (in aggiornamento) \n=== Clicca qui per l’agenda e i dettagli / Click here for agenda and details === \nThis event marks the birth of the OpenSearch community in Rome\, a space dedicated to developers\, data engineers\, platform engineers\, and anyone working with or interested in search\, analytics\, and observability technologies.\nThe goal is to create a meeting place for those using OpenSearch or wanting to explore its potential in real-world contexts: from data platforms to distributed infrastructures and large-scale observability systems. \nDuring the evening\, we will discuss the evolution of OpenSearch and how it is used to build large-scale search\, analytics\, and observability systems. The talks will offer a technical look at architectures\, field experiences\, and concrete application scenarios. \nAgenda (updated)
URL:https://opensearch.org/event/rome-user-group-march-30-2026/
CATEGORIES:Community,Events
ATTACH;FMTTYPE=image/png:https://opensearch.org/wp-content/uploads/2026/01/OpenSearch-Rome-Skyline_01.png
END:VEVENT
BEGIN:VEVENT
DTSTART;TZID=Asia/Kolkata:20260404T100000
DTEND;TZID=Asia/Kolkata:20260404T130000
DTSTAMP:20260419T183813
CREATED:20260311T163411Z
LAST-MODIFIED:20260311T163411Z
UID:10000755-1775296800-1775307600@opensearch.org
SUMMARY:Chennai User Group - April 4 2026
DESCRIPTION:We’re excited to announce the first OpenSearch Chennai Meetup of 2026 – Data\, AI & Observability! \nThis event is organized in collaboration with Future of Data: Chennai. \nJoin us for an engaging community gathering where we’ll explore the world of search\, data platforms\, and observability\, and see how OpenSearch powers modern applications at scale. \nThis meetup is a great opportunity to exchange ideas\, explore emerging trends\, and meet people building modern data and AI systems. \nClick here for agenda and details
URL:https://opensearch.org/event/chennai-user-group-april-4-2026/
CATEGORIES:Community,Events
ATTACH;FMTTYPE=image/png:https://opensearch.org/wp-content/uploads/2025/12/OpenSearch-Chennai-Skyline-03.png
END:VEVENT
BEGIN:VEVENT
DTSTART;TZID=America/Los_Angeles:20260416T183000
DTEND;TZID=America/Los_Angeles:20260416T203000
DTSTAMP:20260419T183813
CREATED:20260311T163917Z
LAST-MODIFIED:20260311T163917Z
UID:10000757-1776364200-1776371400@opensearch.org
SUMMARY:Singapore User Group - April 16 2026
DESCRIPTION:Hi OpenSearch Community in Singapore\,\nThis is our first networking event for OpenSearch enthusiasts and builders in Singapore. OpenSearch is evolving rapidly\, and we’re witnessing significant shifts in how the project approaches everything from AI integration to everyday log management.\nAgenda \n\n6:30 PM – 7:00 PM — Networking and Meet & Greet with some Pizzas!\n7:00 PM – 8:00 PM — What’s New\, What’s Next: OpenSearch Community Meetup\nSpeakers – Michael Supangkat and Farid Baharuddin\n\nWhat We’ll Cover\nWe’ll open with highlights from the OpenSearch 3.5 release — features you can start using today. These include the Prometheus Discover experience\, which enables you to visualize metric data from Prometheus data sources directly alongside your logs and traces\, as well as new support for agentic conversation memory\, making it significantly easier to manage context and history for LLM-powered applications.\nWe’ll then take a broader look at the 2026 vision\, exploring planned features that signal where the project is headed: \n\nAutomated Query Insights — How the engine is moving toward self-healing capabilities by automatically detecting slow query patterns and recommending optimizations.\nInterleaved A/B Testing — A closer look at tuning search relevance using live data directly within the engine\, eliminating the need for external tooling.\n\nLooking forward to seeing you and learning from each other! \nClick here for agenda and details
URL:https://opensearch.org/event/singapore-user-group-april-16-2026/
CATEGORIES:Community,Events
ATTACH;FMTTYPE=image/png:https://opensearch.org/wp-content/uploads/2026/01/OpenSearch-Singapore-Skyline_03.png
END:VEVENT
END:VCALENDAR