BEGIN:VCALENDAR
VERSION:2.0
PRODID:-//OpenSearch - ECPv6.15.20//NONSGML v1.0//EN
CALSCALE:GREGORIAN
METHOD:PUBLISH
X-WR-CALNAME:OpenSearch
X-ORIGINAL-URL:https://opensearch.org
X-WR-CALDESC:Events for OpenSearch
REFRESH-INTERVAL;VALUE=DURATION:PT1H
X-Robots-Tag:noindex
X-PUBLISHED-TTL:PT1H
BEGIN:VTIMEZONE
TZID:America/North_Dakota/Center
BEGIN:DAYLIGHT
TZOFFSETFROM:-0600
TZOFFSETTO:-0500
TZNAME:CDT
DTSTART:20250309T080000
END:DAYLIGHT
BEGIN:STANDARD
TZOFFSETFROM:-0500
TZOFFSETTO:-0600
TZNAME:CST
DTSTART:20251102T070000
END:STANDARD
BEGIN:DAYLIGHT
TZOFFSETFROM:-0600
TZOFFSETTO:-0500
TZNAME:CDT
DTSTART:20260308T080000
END:DAYLIGHT
BEGIN:STANDARD
TZOFFSETFROM:-0500
TZOFFSETTO:-0600
TZNAME:CST
DTSTART:20261101T070000
END:STANDARD
BEGIN:DAYLIGHT
TZOFFSETFROM:-0600
TZOFFSETTO:-0500
TZNAME:CDT
DTSTART:20270314T080000
END:DAYLIGHT
BEGIN:STANDARD
TZOFFSETFROM:-0500
TZOFFSETTO:-0600
TZNAME:CST
DTSTART:20271107T070000
END:STANDARD
END:VTIMEZONE
BEGIN:VTIMEZONE
TZID:Europe/Berlin
BEGIN:DAYLIGHT
TZOFFSETFROM:+0100
TZOFFSETTO:+0200
TZNAME:CEST
DTSTART:20250330T010000
END:DAYLIGHT
BEGIN:STANDARD
TZOFFSETFROM:+0200
TZOFFSETTO:+0100
TZNAME:CET
DTSTART:20251026T010000
END:STANDARD
BEGIN:DAYLIGHT
TZOFFSETFROM:+0100
TZOFFSETTO:+0200
TZNAME:CEST
DTSTART:20260329T010000
END:DAYLIGHT
BEGIN:STANDARD
TZOFFSETFROM:+0200
TZOFFSETTO:+0100
TZNAME:CET
DTSTART:20261025T010000
END:STANDARD
BEGIN:DAYLIGHT
TZOFFSETFROM:+0100
TZOFFSETTO:+0200
TZNAME:CEST
DTSTART:20270328T010000
END:DAYLIGHT
BEGIN:STANDARD
TZOFFSETFROM:+0200
TZOFFSETTO:+0100
TZNAME:CET
DTSTART:20271031T010000
END:STANDARD
END:VTIMEZONE
BEGIN:VTIMEZONE
TZID:Asia/Kathmandu
BEGIN:STANDARD
TZOFFSETFROM:+0545
TZOFFSETTO:+0545
TZNAME:+0545
DTSTART:20250101T000000
END:STANDARD
END:VTIMEZONE
BEGIN:VTIMEZONE
TZID:America/Los_Angeles
BEGIN:DAYLIGHT
TZOFFSETFROM:-0800
TZOFFSETTO:-0700
TZNAME:PDT
DTSTART:20250309T100000
END:DAYLIGHT
BEGIN:STANDARD
TZOFFSETFROM:-0700
TZOFFSETTO:-0800
TZNAME:PST
DTSTART:20251102T090000
END:STANDARD
BEGIN:DAYLIGHT
TZOFFSETFROM:-0800
TZOFFSETTO:-0700
TZNAME:PDT
DTSTART:20260308T100000
END:DAYLIGHT
BEGIN:STANDARD
TZOFFSETFROM:-0700
TZOFFSETTO:-0800
TZNAME:PST
DTSTART:20261101T090000
END:STANDARD
BEGIN:DAYLIGHT
TZOFFSETFROM:-0800
TZOFFSETTO:-0700
TZNAME:PDT
DTSTART:20270314T100000
END:DAYLIGHT
BEGIN:STANDARD
TZOFFSETFROM:-0700
TZOFFSETTO:-0800
TZNAME:PST
DTSTART:20271107T090000
END:STANDARD
END:VTIMEZONE
BEGIN:VTIMEZONE
TZID:Europe/Prague
BEGIN:DAYLIGHT
TZOFFSETFROM:+0100
TZOFFSETTO:+0200
TZNAME:CEST
DTSTART:20250330T010000
END:DAYLIGHT
BEGIN:STANDARD
TZOFFSETFROM:+0200
TZOFFSETTO:+0100
TZNAME:CET
DTSTART:20251026T010000
END:STANDARD
BEGIN:DAYLIGHT
TZOFFSETFROM:+0100
TZOFFSETTO:+0200
TZNAME:CEST
DTSTART:20260329T010000
END:DAYLIGHT
BEGIN:STANDARD
TZOFFSETFROM:+0200
TZOFFSETTO:+0100
TZNAME:CET
DTSTART:20261025T010000
END:STANDARD
BEGIN:DAYLIGHT
TZOFFSETFROM:+0100
TZOFFSETTO:+0200
TZNAME:CEST
DTSTART:20270328T010000
END:DAYLIGHT
BEGIN:STANDARD
TZOFFSETFROM:+0200
TZOFFSETTO:+0100
TZNAME:CET
DTSTART:20271031T010000
END:STANDARD
END:VTIMEZONE
BEGIN:VTIMEZONE
TZID:America/New_York
BEGIN:DAYLIGHT
TZOFFSETFROM:-0500
TZOFFSETTO:-0400
TZNAME:EDT
DTSTART:20250309T070000
END:DAYLIGHT
BEGIN:STANDARD
TZOFFSETFROM:-0400
TZOFFSETTO:-0500
TZNAME:EST
DTSTART:20251102T060000
END:STANDARD
BEGIN:DAYLIGHT
TZOFFSETFROM:-0500
TZOFFSETTO:-0400
TZNAME:EDT
DTSTART:20260308T070000
END:DAYLIGHT
BEGIN:STANDARD
TZOFFSETFROM:-0400
TZOFFSETTO:-0500
TZNAME:EST
DTSTART:20261101T060000
END:STANDARD
BEGIN:DAYLIGHT
TZOFFSETFROM:-0500
TZOFFSETTO:-0400
TZNAME:EDT
DTSTART:20270314T070000
END:DAYLIGHT
BEGIN:STANDARD
TZOFFSETFROM:-0400
TZOFFSETTO:-0500
TZNAME:EST
DTSTART:20271107T060000
END:STANDARD
END:VTIMEZONE
BEGIN:VTIMEZONE
TZID:America/Denver
BEGIN:DAYLIGHT
TZOFFSETFROM:-0700
TZOFFSETTO:-0600
TZNAME:MDT
DTSTART:20250309T090000
END:DAYLIGHT
BEGIN:STANDARD
TZOFFSETFROM:-0600
TZOFFSETTO:-0700
TZNAME:MST
DTSTART:20251102T080000
END:STANDARD
BEGIN:DAYLIGHT
TZOFFSETFROM:-0700
TZOFFSETTO:-0600
TZNAME:MDT
DTSTART:20260308T090000
END:DAYLIGHT
BEGIN:STANDARD
TZOFFSETFROM:-0600
TZOFFSETTO:-0700
TZNAME:MST
DTSTART:20261101T080000
END:STANDARD
BEGIN:DAYLIGHT
TZOFFSETFROM:-0700
TZOFFSETTO:-0600
TZNAME:MDT
DTSTART:20270314T090000
END:DAYLIGHT
BEGIN:STANDARD
TZOFFSETFROM:-0600
TZOFFSETTO:-0700
TZNAME:MST
DTSTART:20271107T080000
END:STANDARD
END:VTIMEZONE
BEGIN:VEVENT
DTSTART;TZID=America/North_Dakota/Center:20260518T080000
DTEND;TZID=America/North_Dakota/Center:20260520T170000
DTSTAMP:20260422T173934
CREATED:20260310T204736Z
LAST-MODIFIED:20260310T205139Z
UID:10000743-1779091200-1779296400@opensearch.org
SUMMARY:Open Source Summit North America
DESCRIPTION:May 18-20\, 2026 | Minneapolis\, Minnesota \nOpenSearch will be Open Source Summit North America – the premier event for open source developers and contributors. It’s where maintainers\, technologists\, and community leaders come together to share knowledge\, collaborate on solutions\, and push open source projects forward. It’s the home for code\, community\, and the people driving the future of open source. \nRegister here >>
URL:https://opensearch.org/event/open-source-summit-north-america/
CATEGORIES:Events
ATTACH;FMTTYPE=image/png:https://opensearch.org/wp-content/uploads/2026/03/Untitled-design-85.png
END:VEVENT
BEGIN:VEVENT
DTSTART;TZID=America/North_Dakota/Center:20260521T080000
DTEND;TZID=America/North_Dakota/Center:20260522T170000
DTSTAMP:20260422T173934
CREATED:20260310T205046Z
LAST-MODIFIED:20260310T205108Z
UID:10000744-1779350400-1779469200@opensearch.org
SUMMARY:Observability Summit (2-day co-located with Open Source Summit NA)
DESCRIPTION:May 21-22\, 2026 | Minneapolis\, Minnesota \nObservability Summit brings together developers\, operators\, and business leaders who are shaping the future of open source observability. From deep-dives to hands-on workshops\, every moment is curated by the community\, for the community! This event will be focused on real challenges\, practical solutions\, and innovations driving the next era of visibility and control. This is a must attend event to help you build\, scale and succeed. \n  \nRegister here >>
URL:https://opensearch.org/event/observability-summit-2-day-co-located-with-open-source-summit-na/
CATEGORIES:Events
ATTACH;FMTTYPE=image/png:https://opensearch.org/wp-content/uploads/2026/03/Untitled-design-86.png
END:VEVENT
BEGIN:VEVENT
DTSTART;TZID=Europe/Berlin:20260607T080000
DTEND;TZID=Europe/Berlin:20260609T170000
DTSTAMP:20260422T173934
CREATED:20260310T205532Z
LAST-MODIFIED:20260310T212915Z
UID:10000745-1780819200-1781024400@opensearch.org
SUMMARY:Berlin Buzzwords
DESCRIPTION:June 07 – June 09 | Berlin \nJoin OpenSearch at Berlin Buzzwords – Europe’s leading conference for modern data infrastructure\, search and machine learning and is focused on open source software projects. \nRegister here >>
URL:https://opensearch.org/event/berlin-buzzwords-2/
CATEGORIES:Events
ATTACH;FMTTYPE=image/png:https://opensearch.org/wp-content/uploads/2026/03/Untitled-design-87.png
END:VEVENT
BEGIN:VEVENT
DTSTART;TZID=Asia/Kathmandu:20260615T080000
DTEND;TZID=Asia/Kathmandu:20260616T170000
DTSTAMP:20260422T173934
CREATED:20260310T205838Z
LAST-MODIFIED:20260310T205839Z
UID:10000746-1781510400-1781629200@opensearch.org
SUMMARY:OpenSearchCon India
DESCRIPTION:June 15 – June 16 | Mumbai\, India \nOpenSearchCon is the annual conference that brings the OpenSearch community together to learn\, connect\, and collaborate. Users\, administrators\, and developers attend to explore solutions to real-world problems\, network with peers\, and explore the future of search\, observability\, and security applications. \nRegister here >>
URL:https://opensearch.org/event/opensearchcon-india/
CATEGORIES:Events
ATTACH;FMTTYPE=image/png:https://opensearch.org/wp-content/uploads/2026/03/OpenSearch-Cons-1.png
END:VEVENT
BEGIN:VEVENT
DTSTART;TZID=Asia/Kathmandu:20260618T080000
DTEND;TZID=Asia/Kathmandu:20260619T170000
DTSTAMP:20260422T173934
CREATED:20260310T210137Z
LAST-MODIFIED:20260310T210138Z
UID:10000747-1781769600-1781888400@opensearch.org
SUMMARY:KubeCon + CloudNativeCon India
DESCRIPTION:June 18 – June 19 | Mumbai\, India \nJoin OpenSearch at The Cloud Native Computing Foundation’s flagship – a conference brings together adopters and technologists from leading open source and cloud native communities in Mumbai\, India\, from 18-19 June\, 2026. Be a part of the conversation as CNCF Graduated\, Incubating\, and Sandbox Projects unite for two days of collaboration\, learning\, and innovation to drive the future of cloud native computing. \nRegister here >>
URL:https://opensearch.org/event/kubecon-cloudnativecon-india/
CATEGORIES:Events
ATTACH;FMTTYPE=image/png:https://opensearch.org/wp-content/uploads/2025/01/OpenSearch-Feature-Image.png
END:VEVENT
BEGIN:VEVENT
DTSTART;TZID=Europe/Berlin:20260708T080000
DTEND;TZID=Europe/Berlin:20260710T170000
DTSTAMP:20260422T173934
CREATED:20260310T210645Z
LAST-MODIFIED:20260310T213326Z
UID:10000748-1783497600-1783702800@opensearch.org
SUMMARY:We Are Developers World Congress Europe
DESCRIPTION:July 08 – 10 | Berlin\, Germany \nJoin OpenSearch at We Are Developers World Congress EU – The World’s Largest Event for Developers\, AI Builders & Tech Leaders \nRegister here >>
URL:https://opensearch.org/event/we-are-developers-world-congress-north-america/
CATEGORIES:Events
ATTACH;FMTTYPE=image/png:https://opensearch.org/wp-content/uploads/2025/01/OpenSearch-Feature-Image.png
END:VEVENT
BEGIN:VEVENT
DTSTART;TZID=America/Los_Angeles:20260922T080000
DTEND;TZID=America/Los_Angeles:20260924T170000
DTSTAMP:20260422T173934
CREATED:20260310T213559Z
LAST-MODIFIED:20260310T213600Z
UID:10000753-1790064000-1790269200@opensearch.org
SUMMARY:OpenSearchCon North America
DESCRIPTION:September 22 – 24 | San Jose\, CA \nOpenSearchCon NA is the annual conference that brings the OpenSearch community together to learn\, connect\, and collaborate. Users\, administrators\, and developers attend to explore solutions to real-world problems\, network with peers\, and explore the future of search\, observability\, and security applications. \nRegister here >>
URL:https://opensearch.org/event/opensearchcon-north-america/
CATEGORIES:Events
ATTACH;FMTTYPE=image/png:https://opensearch.org/wp-content/uploads/2026/03/OpenSearch-Cons-2.png
END:VEVENT
BEGIN:VEVENT
DTSTART;TZID=Europe/Prague:20261007T080000
DTEND;TZID=Europe/Prague:20261009T170000
DTSTAMP:20260422T173934
CREATED:20260310T211337Z
LAST-MODIFIED:20260310T211722Z
UID:10000749-1791360000-1791565200@opensearch.org
SUMMARY:Open Source Summit Europe
DESCRIPTION:Oct 7 -9  | Prague\, Czechia \nJoin OpenSearch at Open Source Summit EU is the premier event for open source developers and contributors. It’s where maintainers\, technologists\, and community leaders come together to share knowledge\, collaborate on solutions\, and push open source projects forward. It’s the home for code\, community\, and the people driving the future of open source. \nRegister here >>
URL:https://opensearch.org/event/open-source-summit-europe/
CATEGORIES:Events
ATTACH;FMTTYPE=image/png:https://opensearch.org/wp-content/uploads/2026/03/Untitled-design-89.png
END:VEVENT
BEGIN:VEVENT
DTSTART;TZID=America/New_York:20261018T080000
DTEND;TZID=America/New_York:20261020T170000
DTSTAMP:20260422T173934
CREATED:20260310T211705Z
LAST-MODIFIED:20260310T213715Z
UID:10000750-1792310400-1792515600@opensearch.org
SUMMARY:All Things Open
DESCRIPTION:Oct 18 – 20 | Raleigh\, NC \nJoin OpenSearch at All Things Open –  an educational conference where attendees learn about new technologies and topics\, and it’s always been that way. The goal is for attendees to leave having learned something or been made aware of something new. \n  \nRegister here >>
URL:https://opensearch.org/event/all-things-open/
CATEGORIES:Events
ATTACH;FMTTYPE=image/png:https://opensearch.org/wp-content/uploads/2025/01/OpenSearch-Feature-Image.png
END:VEVENT
BEGIN:VEVENT
DTSTART;TZID=America/Denver:20261109T080000
DTEND;TZID=America/Denver:20261112T170000
DTSTAMP:20260422T173934
CREATED:20260310T212150Z
LAST-MODIFIED:20260310T212150Z
UID:10000751-1794211200-1794502800@opensearch.org
SUMMARY:KubeCon + CloudNativeCon North America
DESCRIPTION:November 9-12 | Salt Lake City\, Utah \nJoin OpenSearch at KubeCon + CloudNativeCon North America. \nRegistration coming soon >>
URL:https://opensearch.org/event/kubecon-cloudnativecon-north-america/
CATEGORIES:Events
ATTACH;FMTTYPE=image/png:https://opensearch.org/wp-content/uploads/2025/01/OpenSearch-Feature-Image.png
END:VEVENT
BEGIN:VEVENT
DTSTART;TZID=America/Los_Angeles:20261130T080000
DTEND;TZID=America/Los_Angeles:20261205T170000
DTSTAMP:20260422T173934
CREATED:20260310T212421Z
LAST-MODIFIED:20260310T212640Z
UID:10000752-1796025600-1796490000@opensearch.org
SUMMARY:AWS re:Invent
DESCRIPTION:Nov 30 – Dec 05 | Las Vegas\, NV \nJoin OpenSearch at AWS re:Invent. More information coming soon.
URL:https://opensearch.org/event/aws-reinvent/
CATEGORIES:Events
ATTACH;FMTTYPE=image/png:https://opensearch.org/wp-content/uploads/2025/01/OpenSearch-Feature-Image.png
END:VEVENT
END:VCALENDAR