BEGIN:VCALENDAR
VERSION:2.0
PRODID:-//OpenSearch - ECPv6.15.20//NONSGML v1.0//EN
CALSCALE:GREGORIAN
METHOD:PUBLISH
X-WR-CALNAME:OpenSearch
X-ORIGINAL-URL:https://opensearch.org
X-WR-CALDESC:Events for OpenSearch
REFRESH-INTERVAL;VALUE=DURATION:PT1H
X-Robots-Tag:noindex
X-PUBLISHED-TTL:PT1H
BEGIN:VTIMEZONE
TZID:UTC
BEGIN:STANDARD
TZOFFSETFROM:+0000
TZOFFSETTO:+0000
TZNAME:UTC
DTSTART:20210101T000000
END:STANDARD
END:VTIMEZONE
BEGIN:VEVENT
DTSTART;TZID=UTC:20230124T130000
DTEND;TZID=UTC:20230124T140000
DTSTAMP:20260423T053216
CREATED:20250107T203531Z
LAST-MODIFIED:20250107T203531Z
UID:10000212-1674565200-1674568800@opensearch.org
SUMMARY:Data Ops Poland - Finding the Right Things with OpenSearch
DESCRIPTION:Check out Data Ops Poland where David will be presenting\, “Finding the Right Things with OpenSearch”: \nAs our data grows it’s become increasingly challenging to find what you need. In comes OpenSearch to help out. Whether you are searching through terabytes of logs\, hundreds of thousands of products online\, or even security events OpenSearch can help you find the right information. Learn how OpenSearch uses search techniques to find you the data that is relevant to you. \nJoin on Meetup
URL:https://opensearch.org/event/2023-0124-finding-the-right-things/
CATEGORIES:Events
ATTACH;FMTTYPE=image/png:https://opensearch.org/wp-content/uploads/2025/01/OpenSearch-Feature-Image.png
END:VEVENT
BEGIN:VEVENT
DTSTART;TZID=UTC:20221107T080000
DTEND;TZID=UTC:20221107T090000
DTSTAMP:20260423T053216
CREATED:20250107T205738Z
LAST-MODIFIED:20250107T205738Z
UID:10000226-1667808000-1667811600@opensearch.org
SUMMARY:Ubuntu Summit - 2022-11-07 through 11-09
DESCRIPTION:Join the OpenSearch team at Ubuntu Summit 2022. \nJoin Nate Boot\, David Tippett\, and Kris Freedain for their talk Measuring Data with OpenSearch to Better Serve the Community. \nExact schedule TBD – be sure to watch the Ubuntu Summit 2022 for more details. \nMeet us there!
URL:https://opensearch.org/event/2022-1107-ubuntu-summit/
CATEGORIES:Events
ATTACH;FMTTYPE=image/png:https://opensearch.org/wp-content/uploads/2025/01/OpenSearch-Feature-Image.png
END:VEVENT
BEGIN:VEVENT
DTSTART;TZID=UTC:20221024T080000
DTEND;TZID=UTC:20221024T090000
DTSTAMP:20260423T053216
CREATED:20250108T073609Z
LAST-MODIFIED:20250108T073622Z
UID:10000230-1666598400-1666602000@opensearch.org
SUMMARY:Kubecon Open Observability Day - 2022-10-24
DESCRIPTION:Join the OpenSearch team at Open Observability Day. \nJoin David Tippett\, and Prudhvi Godithi for a booth talk on getting started with the OpenSearch operator! \nMeet us there!
URL:https://opensearch.org/event/2022-1024-open-observability-day/
CATEGORIES:Events
ATTACH;FMTTYPE=image/png:https://opensearch.org/wp-content/uploads/2025/01/OpenSearch-Feature-Image.png
END:VEVENT
BEGIN:VEVENT
DTSTART;TZID=UTC:20220921T100000
DTEND;TZID=UTC:20220921T110000
DTSTAMP:20260423T053216
CREATED:20250108T074036Z
LAST-MODIFIED:20250722T211231Z
UID:10000234-1663754400-1663758000@opensearch.org
SUMMARY:OpenSearchCon - 2022-09-21
DESCRIPTION:OpenSearchCon – A one-day conference for the community! \nJoin the OpenSearch community for a day of learning\, collaboration\, and innovation with the people and organizations that are shaping the future of the OpenSearch project. This free-to-attend\, one-day conference brings together users\, developers\, and technologists across the OpenSearch community to explore real-world successes and new applications. Connect with peers and partners who can help you solve today’s search challenges and unlock the next phase of your OpenSearch journey. \n\nWhen: September 21\, 2022\, 10:00 a.m. – 6:30 p.m.\nWhere: Seattle – Fremont Studios\, 155 N 35th St\, 98103\nWho: OpenSearch users\, developers\, and other community members\n\n\n\n\nRegister to attend
URL:https://opensearch.org/event/2022-0921-opensearchcon/
CATEGORIES:Events
ATTACH;FMTTYPE=image/png:https://opensearch.org/wp-content/uploads/2025/01/OpenSearch-Feature-Image.png
END:VEVENT
END:VCALENDAR