BEGIN:VCALENDAR
VERSION:2.0
PRODID:-//OpenSearch - ECPv6.15.20//NONSGML v1.0//EN
CALSCALE:GREGORIAN
METHOD:PUBLISH
X-WR-CALNAME:OpenSearch
X-ORIGINAL-URL:https://opensearch.org
X-WR-CALDESC:Events for OpenSearch
REFRESH-INTERVAL;VALUE=DURATION:PT1H
X-Robots-Tag:noindex
X-PUBLISHED-TTL:PT1H
BEGIN:VTIMEZONE
TZID:Asia/Kolkata
BEGIN:STANDARD
TZOFFSETFROM:+0530
TZOFFSETTO:+0530
TZNAME:IST
DTSTART:20250101T000000
END:STANDARD
END:VTIMEZONE
BEGIN:VEVENT
DTSTART;TZID=Asia/Kolkata:20260228T080000
DTEND;TZID=Asia/Kolkata:20260228T170000
DTSTAMP:20260424T140145
CREATED:20260220T183500Z
LAST-MODIFIED:20260220T183500Z
UID:10000734-1772265600-1772298000@opensearch.org
SUMMARY:Jaipur User Group - February 28 2026
DESCRIPTION: Hello Jaipur\, Meet OpenSearch! \nI’m OpenSearch — yes\, that new kid on the block in town 🌆 \nAnd on 28th February\, we’re officially launching the Jaipur chapter of the OpenSearch Community! \nThis is not just another meetup.\nThis is the beginning of a builder-led\, open-source-first tech community in Jaipur. \nWhat you will get :\n✨ Meet experienced professionals from DevOps\, Cloud & Data domains\n✨ Strong networking opportunities with like-minded builders\n✨ Cool swags & community goodies 🎁 \n\nDetails and RSVP here
URL:https://opensearch.org/event/jaipur-user-group-february-28-2026/
CATEGORIES:Community,Events
ATTACH;FMTTYPE=image/png:https://opensearch.org/wp-content/uploads/2026/01/OpenSearch-Jaipur-Skyline_01.png
END:VEVENT
END:VCALENDAR