BEGIN:VCALENDAR
VERSION:2.0
PRODID:-//OpenSearch - ECPv6.15.20//NONSGML v1.0//EN
CALSCALE:GREGORIAN
METHOD:PUBLISH
X-ORIGINAL-URL:https://opensearch.org
X-WR-CALDESC:Events for OpenSearch
REFRESH-INTERVAL;VALUE=DURATION:PT1H
X-Robots-Tag:noindex
X-PUBLISHED-TTL:PT1H
BEGIN:VTIMEZONE
TZID:Europe/Helsinki
BEGIN:DAYLIGHT
TZOFFSETFROM:+0200
TZOFFSETTO:+0300
TZNAME:EEST
DTSTART:20250330T010000
END:DAYLIGHT
BEGIN:STANDARD
TZOFFSETFROM:+0300
TZOFFSETTO:+0200
TZNAME:EET
DTSTART:20251026T010000
END:STANDARD
BEGIN:DAYLIGHT
TZOFFSETFROM:+0200
TZOFFSETTO:+0300
TZNAME:EEST
DTSTART:20260329T010000
END:DAYLIGHT
BEGIN:STANDARD
TZOFFSETFROM:+0300
TZOFFSETTO:+0200
TZNAME:EET
DTSTART:20261025T010000
END:STANDARD
BEGIN:DAYLIGHT
TZOFFSETFROM:+0200
TZOFFSETTO:+0300
TZNAME:EEST
DTSTART:20270328T010000
END:DAYLIGHT
BEGIN:STANDARD
TZOFFSETFROM:+0300
TZOFFSETTO:+0200
TZNAME:EET
DTSTART:20271031T010000
END:STANDARD
END:VTIMEZONE
BEGIN:VEVENT
DTSTART;TZID=Europe/Helsinki:20260305T140000
DTEND;TZID=Europe/Helsinki:20260305T170000
DTSTAMP:20260424T140359
CREATED:20260217T183444Z
LAST-MODIFIED:20260217T183444Z
UID:10000733-1772719200-1772730000@opensearch.org
SUMMARY:Tel Aviv User Group - March 5 2026
DESCRIPTION:AI-Powered Data Analytics Innovation with Vectors\, Graphs and Intent \nReady to scale your RAG\, AI workloads\, and search? Join us Thursday 5th March 2026 on AWS TLV Floor 28 for a content-packed session in collaboration with AWS about using OpenSearch for AI-Powered Data Analytics and modern search methods: Semantic Search\, S3 Vectors and GraphRAG. \nLearn more
URL:https://opensearch.org/event/tel-aviv-user-group-march-5-2026/
CATEGORIES:Community,Events
ATTACH;FMTTYPE=image/png:https://opensearch.org/wp-content/uploads/2025/04/OpenSearch-TelAvivUG.png
END:VEVENT
END:VCALENDAR