BEGIN:VCALENDAR
VERSION:2.0
PRODID:-//OpenSearch - ECPv6.15.20//NONSGML v1.0//EN
CALSCALE:GREGORIAN
METHOD:PUBLISH
X-ORIGINAL-URL:https://opensearch.org
X-WR-CALDESC:Events for OpenSearch
REFRESH-INTERVAL;VALUE=DURATION:PT1H
X-Robots-Tag:noindex
X-PUBLISHED-TTL:PT1H
BEGIN:VTIMEZONE
TZID:Europe/Lisbon
BEGIN:DAYLIGHT
TZOFFSETFROM:+0000
TZOFFSETTO:+0100
TZNAME:WEST
DTSTART:20250330T010000
END:DAYLIGHT
BEGIN:STANDARD
TZOFFSETFROM:+0100
TZOFFSETTO:+0000
TZNAME:WET
DTSTART:20251026T010000
END:STANDARD
BEGIN:DAYLIGHT
TZOFFSETFROM:+0000
TZOFFSETTO:+0100
TZNAME:WEST
DTSTART:20260329T010000
END:DAYLIGHT
BEGIN:STANDARD
TZOFFSETFROM:+0100
TZOFFSETTO:+0000
TZNAME:WET
DTSTART:20261025T010000
END:STANDARD
BEGIN:DAYLIGHT
TZOFFSETFROM:+0000
TZOFFSETTO:+0100
TZNAME:WEST
DTSTART:20270328T010000
END:DAYLIGHT
BEGIN:STANDARD
TZOFFSETFROM:+0100
TZOFFSETTO:+0000
TZNAME:WET
DTSTART:20271031T010000
END:STANDARD
END:VTIMEZONE
BEGIN:VEVENT
DTSTART;TZID=Europe/Lisbon:20260311T180000
DTEND;TZID=Europe/Lisbon:20260311T200000
DTSTAMP:20260424T140358
CREATED:20260209T211215Z
LAST-MODIFIED:20260209T211301Z
UID:10000732-1773252000-1773259200@opensearch.org
SUMMARY:Lisbon User Group - March 11 2026
DESCRIPTION:Hi\, and welcome to the Lisbon Search & AI user group event #2. \nBelow you will find the agenda + talk summaries\n18:00 – 18:20: Arrivals\, Networking\, Food & Drinks\n18:20 – 18:25: Welcome & Housekeeping\n18:25 – 19:00: First Speaker – Afonso Mendes\, Empa-T\n19:00 – 19:30: Second Speaker – TBD\n19:30 – 20:00 Q&A\, Wrap-up.\nTalk 1: Large Language Models and their role within the current Search & AI ecosystem\nSpeaker: Afonso Mendes\nTalk Summary: This session looks beyond the buzz to question what large language models (LLMs) truly bring to the table\, and where their limits lie. We will examine how these models fit within the broader ecosystem of Search and AI tools and how they relate with more traditional systems. From uncovering where LLMs shine to exposing where they do not\, the discussion invites a clearer view of their real value in today’s landscape. \nOther talks to be submitted soon! If you’d like to join and present at this meet-up\, please get in touch with Bernardo or Carlos! \nBe sure to click here to RSVP and learn about the exciting agenda planned for that event.
URL:https://opensearch.org/event/lisbon-user-group-march-11-2026/
CATEGORIES:Community,Events
ATTACH;FMTTYPE=image/png:https://opensearch.org/wp-content/uploads/2025/10/OpenSearch-Lisbon-Skyline-05-scaled.png
END:VEVENT
END:VCALENDAR