BEGIN:VCALENDAR
VERSION:2.0
PRODID:-//OpenSearch - ECPv6.15.20//NONSGML v1.0//EN
CALSCALE:GREGORIAN
METHOD:PUBLISH
X-WR-CALNAME:OpenSearch
X-ORIGINAL-URL:https://opensearch.org
X-WR-CALDESC:Events for OpenSearch
REFRESH-INTERVAL;VALUE=DURATION:PT1H
X-Robots-Tag:noindex
X-PUBLISHED-TTL:PT1H
BEGIN:VTIMEZONE
TZID:America/New_York
BEGIN:DAYLIGHT
TZOFFSETFROM:-0500
TZOFFSETTO:-0400
TZNAME:EDT
DTSTART:20250309T070000
END:DAYLIGHT
BEGIN:STANDARD
TZOFFSETFROM:-0400
TZOFFSETTO:-0500
TZNAME:EST
DTSTART:20251102T060000
END:STANDARD
BEGIN:DAYLIGHT
TZOFFSETFROM:-0500
TZOFFSETTO:-0400
TZNAME:EDT
DTSTART:20260308T070000
END:DAYLIGHT
BEGIN:STANDARD
TZOFFSETFROM:-0400
TZOFFSETTO:-0500
TZNAME:EST
DTSTART:20261101T060000
END:STANDARD
BEGIN:DAYLIGHT
TZOFFSETFROM:-0500
TZOFFSETTO:-0400
TZNAME:EDT
DTSTART:20270314T070000
END:DAYLIGHT
BEGIN:STANDARD
TZOFFSETFROM:-0400
TZOFFSETTO:-0500
TZNAME:EST
DTSTART:20271107T060000
END:STANDARD
END:VTIMEZONE
BEGIN:VEVENT
DTSTART;TZID=America/New_York:20260312T180000
DTEND;TZID=America/New_York:20260312T193000
DTSTAMP:20260424T140233
CREATED:20260220T183940Z
LAST-MODIFIED:20260227T234310Z
UID:10000736-1773338400-1773343800@opensearch.org
SUMMARY:Washington DC User Group launch - March 12 2026
DESCRIPTION:Agenda: \n\n6-6:30 pm: Networking and food/drinks\n6:30-7:15 pm: Announcements and presentation\n7:15 pm-7:30 pm: Q&A and close-out\n\nHacking the Stack: Using OpenSearch Dashboards as an Application Framework\nMost developers treat OpenSearch Dashboards (OSD) strictly as a visualization layer—a place for charts and graphs. They are missing the bigger picture. OSD is a powerful\, untapped environment for full-stack application development. In this session\, we peel back the architecture of an enterprise-grade risk\, compliance\, and security platform built entirely on top of OSD. We moved beyond simple plugins and pushed OSD to its limits to create a seamless\, interactive application experience. \nJoin us for a deep dive into the engineering reality of the OpenSearch stack\, including: \n\nThe Analysis: Why the OpenSearch stack beat out the competition.\nThe Build\, Beyond Visualization: How to implement custom React components to build complex workflows and interactive UIs within OSD.\nThe Integrations: Integrating Wazuh for agent management and ingesting data at scale.\nThe “Gotchas”: Honest\, real-world lessons on data handling\, state management\, and what to look out for.\n\nIf you are ready to push your plugins from “reporting tools” to “robust software\,” do not miss this session! \nDetails and RSVP here
URL:https://opensearch.org/event/washington-dc-user-group-launch-march-12-2026/
CATEGORIES:Community,Events
ATTACH;FMTTYPE=image/png:https://opensearch.org/wp-content/uploads/2025/12/OpenSearch-WashingtonDC-Skyline-01-scaled.png
END:VEVENT
END:VCALENDAR